BEGIN:VCALENDAR
VERSION:2.0
PRODID:-//Ardechanvre - ECPv6.15.20//NONSGML v1.0//EN
CALSCALE:GREGORIAN
METHOD:PUBLISH
X-ORIGINAL-URL:https://ardechanvre.fr
X-WR-CALDESC:Évènements pour Ardechanvre
REFRESH-INTERVAL;VALUE=DURATION:PT1H
X-Robots-Tag:noindex
X-PUBLISHED-TTL:PT1H
BEGIN:VTIMEZONE
TZID:UTC
BEGIN:STANDARD
TZOFFSETFROM:+0000
TZOFFSETTO:+0000
TZNAME:UTC
DTSTART:20240101T000000
END:STANDARD
END:VTIMEZONE
BEGIN:VEVENT
DTSTART;VALUE=DATE:20251207
DTEND;VALUE=DATE:20251208
DTSTAMP:20260421T215021
CREATED:20251108T084612Z
LAST-MODIFIED:20251108T084612Z
UID:2841-1765065600-1765151999@ardechanvre.fr
SUMMARY:Marché de Noël
DESCRIPTION:
URL:https://ardechanvre.fr/evenement/marche-de-noel-5/
LOCATION:Davezieux\, 07430
END:VEVENT
BEGIN:VEVENT
DTSTART;VALUE=DATE:20251214
DTEND;VALUE=DATE:20251215
DTSTAMP:20260421T215021
CREATED:20251108T085052Z
LAST-MODIFIED:20251108T085052Z
UID:2843-1765670400-1765756799@ardechanvre.fr
SUMMARY:Marché de Noël
DESCRIPTION:
URL:https://ardechanvre.fr/evenement/marche-de-noel-6/
LOCATION:Alba la Romaine\, 07400
END:VEVENT
BEGIN:VEVENT
DTSTART;TZID=UTC:20251219T170000
DTEND;TZID=UTC:20251219T230000
DTSTAMP:20260421T215021
CREATED:20251108T090450Z
LAST-MODIFIED:20251108T090450Z
UID:2855-1766163600-1766185200@ardechanvre.fr
SUMMARY:Marché de Noël
DESCRIPTION:
URL:https://ardechanvre.fr/evenement/marche-de-noel-10/
LOCATION:Vernosc\, 07430
END:VEVENT
BEGIN:VEVENT
DTSTART;VALUE=DATE:20251221
DTEND;VALUE=DATE:20251222
DTSTAMP:20260421T215021
CREATED:20251108T085850Z
LAST-MODIFIED:20251108T085850Z
UID:2849-1766275200-1766361599@ardechanvre.fr
SUMMARY:Marché de Noël
DESCRIPTION:
URL:https://ardechanvre.fr/evenement/marche-de-noel-8/
LOCATION:Talencieux
END:VEVENT
END:VCALENDAR