BEGIN:VCALENDAR
VERSION:2.0
PRODID:-//Ardechanvre - ECPv6.15.20//NONSGML v1.0//EN
CALSCALE:GREGORIAN
METHOD:PUBLISH
X-ORIGINAL-URL:https://ardechanvre.fr
X-WR-CALDESC:Évènements pour Ardechanvre
REFRESH-INTERVAL;VALUE=DURATION:PT1H
X-Robots-Tag:noindex
X-PUBLISHED-TTL:PT1H
BEGIN:VTIMEZONE
TZID:UTC
BEGIN:STANDARD
TZOFFSETFROM:+0000
TZOFFSETTO:+0000
TZNAME:UTC
DTSTART:20240101T000000
END:STANDARD
END:VTIMEZONE
BEGIN:VEVENT
DTSTART;TZID=UTC:20250709T180000
DTEND;TZID=UTC:20250709T220000
DTSTAMP:20260422T063913
CREATED:20250421T150836Z
LAST-MODIFIED:20250421T150836Z
UID:2593-1752084000-1752098400@ardechanvre.fr
SUMMARY:Marché semi nocturne 18h/22h
DESCRIPTION:
URL:https://ardechanvre.fr/evenement/marche-semi-nocturne-18h-22h/
LOCATION:Quintenas
END:VEVENT
BEGIN:VEVENT
DTSTART;VALUE=DATE:20250720
DTEND;VALUE=DATE:20250721
DTSTAMP:20260422T063913
CREATED:20250421T151506Z
LAST-MODIFIED:20250421T151506Z
UID:2599-1752969600-1753055999@ardechanvre.fr
SUMMARY:Fête du Picodon
DESCRIPTION:
URL:https://ardechanvre.fr/evenement/fete-du-picodon/
LOCATION:Saou
END:VEVENT
BEGIN:VEVENT
DTSTART;TZID=UTC:20250723T180000
DTEND;TZID=UTC:20250723T220000
DTSTAMP:20260422T063913
CREATED:20250421T150954Z
LAST-MODIFIED:20250421T151021Z
UID:2595-1753293600-1753308000@ardechanvre.fr
SUMMARY:Marché semi nocturne 18h/22h
DESCRIPTION:
URL:https://ardechanvre.fr/evenement/marche-semi-nocturne-18h-22h-2/
LOCATION:Quintenas
END:VEVENT
END:VCALENDAR