BEGIN:VCALENDAR
VERSION:2.0
PRODID:-//Ardechanvre - ECPv6.15.20//NONSGML v1.0//EN
CALSCALE:GREGORIAN
METHOD:PUBLISH
X-ORIGINAL-URL:https://ardechanvre.fr
X-WR-CALDESC:Évènements pour Ardechanvre
REFRESH-INTERVAL;VALUE=DURATION:PT1H
X-Robots-Tag:noindex
X-PUBLISHED-TTL:PT1H
BEGIN:VTIMEZONE
TZID:UTC
BEGIN:STANDARD
TZOFFSETFROM:+0000
TZOFFSETTO:+0000
TZNAME:UTC
DTSTART:20240101T000000
END:STANDARD
END:VTIMEZONE
BEGIN:VEVENT
DTSTART;VALUE=DATE:20250503
DTEND;VALUE=DATE:20250504
DTSTAMP:20260422T094809
CREATED:20250421T142657Z
LAST-MODIFIED:20250421T142854Z
UID:2572-1746230400-1746316799@ardechanvre.fr
SUMMARY:Foire de Printemps
DESCRIPTION:
URL:https://ardechanvre.fr/evenement/foire-de-printemps/
LOCATION:lamastre\, 07270\, France
END:VEVENT
BEGIN:VEVENT
DTSTART;TZID=UTC:20250508T090000
DTEND;TZID=UTC:20250508T170000
DTSTAMP:20260422T094809
CREATED:20250421T144708Z
LAST-MODIFIED:20250421T144708Z
UID:2579-1746694800-1746723600@ardechanvre.fr
SUMMARY:Foire du 8 Mai
DESCRIPTION:
URL:https://ardechanvre.fr/evenement/foire-du-8-mai/
LOCATION:Alba la Romaine\, 07400
END:VEVENT
BEGIN:VEVENT
DTSTART;VALUE=DATE:20250518
DTEND;VALUE=DATE:20250519
DTSTAMP:20260422T094809
CREATED:20250421T145520Z
LAST-MODIFIED:20250421T145520Z
UID:2581-1747526400-1747612799@ardechanvre.fr
SUMMARY:Rochepaule en fête
DESCRIPTION:
URL:https://ardechanvre.fr/evenement/rochepaule-en-fete/
LOCATION:Rochepaule
END:VEVENT
BEGIN:VEVENT
DTSTART;VALUE=DATE:20250518
DTEND;VALUE=DATE:20250519
DTSTAMP:20260422T094809
CREATED:20250421T150020Z
LAST-MODIFIED:20250421T150020Z
UID:2584-1747526400-1747612799@ardechanvre.fr
SUMMARY:Fête du fruit rouge
DESCRIPTION:
URL:https://ardechanvre.fr/evenement/fete-du-fruit-rouge/
LOCATION:Chanas
END:VEVENT
END:VCALENDAR