BEGIN:VCALENDAR
VERSION:2.0
PRODID:-//Ardechanvre - ECPv6.15.20//NONSGML v1.0//EN
CALSCALE:GREGORIAN
METHOD:PUBLISH
X-WR-CALNAME:Ardechanvre
X-ORIGINAL-URL:https://ardechanvre.fr
X-WR-CALDESC:Évènements pour Ardechanvre
REFRESH-INTERVAL;VALUE=DURATION:PT1H
X-Robots-Tag:noindex
X-PUBLISHED-TTL:PT1H
BEGIN:VTIMEZONE
TZID:UTC
BEGIN:STANDARD
TZOFFSETFROM:+0000
TZOFFSETTO:+0000
TZNAME:UTC
DTSTART:20250101T000000
END:STANDARD
END:VTIMEZONE
BEGIN:VEVENT
DTSTART;TZID=UTC:20260425T090000
DTEND;TZID=UTC:20260426T170000
DTSTAMP:20260421T163354
CREATED:20260409T093837Z
LAST-MODIFIED:20260409T093837Z
UID:2919-1777107600-1777222800@ardechanvre.fr
SUMMARY:De ferme en ferme 2026
DESCRIPTION:Pour préparer votre visite regarder le Depliant_DeFermeEnFerme_2026_HD
URL:https://ardechanvre.fr/evenement/de-ferme-en-ferme-2026/
LOCATION:Talencieux
END:VEVENT
END:VCALENDAR