BEGIN:VCALENDAR
VERSION:2.0
PRODID:-//Ardechanvre - ECPv6.15.20//NONSGML v1.0//EN
CALSCALE:GREGORIAN
METHOD:PUBLISH
X-ORIGINAL-URL:https://ardechanvre.fr
X-WR-CALDESC:Évènements pour Ardechanvre
REFRESH-INTERVAL;VALUE=DURATION:PT1H
X-Robots-Tag:noindex
X-PUBLISHED-TTL:PT1H
BEGIN:VTIMEZONE
TZID:UTC
BEGIN:STANDARD
TZOFFSETFROM:+0000
TZOFFSETTO:+0000
TZNAME:UTC
DTSTART:20240101T000000
END:STANDARD
END:VTIMEZONE
BEGIN:VEVENT
DTSTART;VALUE=DATE:20251122
DTEND;VALUE=DATE:20251123
DTSTAMP:20260422T015035
CREATED:20251108T083338Z
LAST-MODIFIED:20251108T083338Z
UID:2835-1763769600-1763855999@ardechanvre.fr
SUMMARY:Foire de la Sainte Catherine
DESCRIPTION:
URL:https://ardechanvre.fr/evenement/foire-de-la-sainte-catherine-2/
LOCATION:saint genis Laval\, 69204
END:VEVENT
END:VCALENDAR