BEGIN:VCALENDAR
VERSION:2.0
PRODID:-//Ardechanvre - ECPv6.15.20//NONSGML v1.0//EN
CALSCALE:GREGORIAN
METHOD:PUBLISH
X-ORIGINAL-URL:https://ardechanvre.fr
X-WR-CALDESC:Évènements pour Ardechanvre
REFRESH-INTERVAL;VALUE=DURATION:PT1H
X-Robots-Tag:noindex
X-PUBLISHED-TTL:PT1H
BEGIN:VTIMEZONE
TZID:UTC
BEGIN:STANDARD
TZOFFSETFROM:+0000
TZOFFSETTO:+0000
TZNAME:UTC
DTSTART:20240101T000000
END:STANDARD
END:VTIMEZONE
BEGIN:VEVENT
DTSTART;TZID=UTC:20251111T090000
DTEND;TZID=UTC:20251111T180000
DTSTAMP:20260422T015241
CREATED:20251108T083012Z
LAST-MODIFIED:20251108T083012Z
UID:2832-1762851600-1762884000@ardechanvre.fr
SUMMARY:Fête de la pomme
DESCRIPTION:
URL:https://ardechanvre.fr/evenement/fete-de-la-pomme-2/
LOCATION:Pélussin\, 42410
END:VEVENT
END:VCALENDAR