BEGIN:VCALENDAR
VERSION:2.0
PRODID:-//Ardechanvre - ECPv6.15.20//NONSGML v1.0//EN
CALSCALE:GREGORIAN
METHOD:PUBLISH
X-ORIGINAL-URL:https://ardechanvre.fr
X-WR-CALDESC:Évènements pour Ardechanvre
REFRESH-INTERVAL;VALUE=DURATION:PT1H
X-Robots-Tag:noindex
X-PUBLISHED-TTL:PT1H
BEGIN:VTIMEZONE
TZID:UTC
BEGIN:STANDARD
TZOFFSETFROM:+0000
TZOFFSETTO:+0000
TZNAME:UTC
DTSTART:20240101T000000
END:STANDARD
END:VTIMEZONE
BEGIN:VEVENT
DTSTART;TZID=UTC:20251108T080000
DTEND;TZID=UTC:20251109T170000
DTSTAMP:20260422T015312
CREATED:20250421T164641Z
LAST-MODIFIED:20250421T164641Z
UID:2610-1762588800-1762707600@ardechanvre.fr
SUMMARY:Foire aux champignons
DESCRIPTION:
URL:https://ardechanvre.fr/evenement/foire-aux-champignons-2/
LOCATION:Saint Bonnet le Froid\, 43290
END:VEVENT
END:VCALENDAR